BEGIN:VCALENDAR
VERSION:2.0
PRODID:-//CHRONISCH GLÜCKLICH e.V. - ECPv6.15.20//NONSGML v1.0//EN
CALSCALE:GREGORIAN
METHOD:PUBLISH
X-WR-CALNAME:CHRONISCH GLÜCKLICH e.V.
X-ORIGINAL-URL:https://chronisch-gluecklich.de
X-WR-CALDESC:Veranstaltungen für CHRONISCH GLÜCKLICH e.V.
REFRESH-INTERVAL;VALUE=DURATION:PT1H
X-Robots-Tag:noindex
X-PUBLISHED-TTL:PT1H
BEGIN:VTIMEZONE
TZID:Europe/Berlin
BEGIN:DAYLIGHT
TZOFFSETFROM:+0100
TZOFFSETTO:+0200
TZNAME:CEST
DTSTART:20220327T010000
END:DAYLIGHT
BEGIN:STANDARD
TZOFFSETFROM:+0200
TZOFFSETTO:+0100
TZNAME:CET
DTSTART:20221030T010000
END:STANDARD
BEGIN:DAYLIGHT
TZOFFSETFROM:+0100
TZOFFSETTO:+0200
TZNAME:CEST
DTSTART:20230326T010000
END:DAYLIGHT
BEGIN:STANDARD
TZOFFSETFROM:+0200
TZOFFSETTO:+0100
TZNAME:CET
DTSTART:20231029T010000
END:STANDARD
BEGIN:DAYLIGHT
TZOFFSETFROM:+0100
TZOFFSETTO:+0200
TZNAME:CEST
DTSTART:20240331T010000
END:DAYLIGHT
BEGIN:STANDARD
TZOFFSETFROM:+0200
TZOFFSETTO:+0100
TZNAME:CET
DTSTART:20241027T010000
END:STANDARD
END:VTIMEZONE
BEGIN:VEVENT
DTSTART;TZID=Europe/Berlin:20230818T180000
DTEND;TZID=Europe/Berlin:20230818T200000
DTSTAMP:20260424T163714
CREATED:20230713T153659Z
LAST-MODIFIED:20250715T162436Z
UID:2706-1692381600-1692388800@chronisch-gluecklich.de
SUMMARY:Treffen der Selbsthilfegruppe (SHG) Nord
DESCRIPTION:Je nach Wetterlage würden wir das Treffen irgendwo draußen nett gestalten oder in einer Lokalität draußen planen. Natürlich mit schnell zugänglichen Toiletten. Bei typischem Hamburger Wetter treffen wir uns in Hamburg Eimsbüttel.   \n\n\n\nEin Besuch des Treffens ist nur nach vorheriger verbindlichen Anmeldung möglich\, da wir die Gruppen in einem überschaubaren Rahmen halten möchten.  \n\n\n\nWer Lust auf moderne Selbsthilfe mit viel Humor und Austausch oder ein erstes Kennenlernen hat\, meldet sich bitte per E-Mail mit dem Betreff:   \n\n\n\n„SHG August“ bis zum 15.08.2023 unter moin@chronisch-gluecklich.de an.  \n\n\n\nBitte rechnet damit\, dass wir ab einer bestimmten Anzahl auch Teilnahmewünsche absagen müssen. Nach Ablauf der Anmeldefrist und erfolgreicher Anmeldung bekommt Ihr alle Details und Infos zu dem Treffen von uns geschickt.  \n\n\n\nDies wird ein offenes Treffen jeder Altersgruppe sein\, alle sind herzlich willkommen und die Erfahrung der letzten Treffen hat gezeigt\, dass niemand Angst oder Scheu haben muss\, neu in die Gruppe zu kommen. Falls ihr unsicher seid oder Unterstützung braucht\, gebt uns gerne Bescheid. Wir finden eine Lösung.  \n\n\n\nWir freuen uns auf euch. 
URL:https://chronisch-gluecklich.de/veranstaltung/treffen-der-selbsthilfegruppe-shg-nord-3
ATTACH;FMTTYPE=image/png:https://chronisch-gluecklich.de/wp-content/uploads/2023/01/shgnord_Zeichenflaeche-1.png
ORGANIZER;CN="CG NORD":MAILTO:moin@xyz.de
END:VEVENT
BEGIN:VEVENT
DTSTART;TZID=Europe/Berlin:20230713T190000
DTEND;TZID=Europe/Berlin:20230713T210000
DTSTAMP:20260424T163714
CREATED:20230713T153402Z
LAST-MODIFIED:20230713T153405Z
UID:2703-1689274800-1689282000@chronisch-gluecklich.de
SUMMARY:EIN ABEND FÜR ALLE MIT EINER FRISCHEN CED-DIAGNOSE
DESCRIPTION:Neuer Alltag mit einer CED und viele Fragen? \n\n\n\nEIN ABEND FÜR ALLE MIT EINER FRISCHEN CED-DIAGNOSE (online per Zoom)  \n\n\n\nAm 20.07.2023 19 – 21 Uhr   \n\n\n\nIhr könnt ganz unkompliziert\, anonym oder mit eingeschalteter Kamera\, erste Fragen zum Umgang mit den neuen Herausforderungen stellen und euch austauschen  \n\n\n\nHierbei geht es um erste Ideen mitnehmen und für sich entwickeln.   \n\n\n\nUnd es darf auch mal gejammert werden.   \n\n\n\nWir wissen selbst\, wie schwer es sein kann und wie allein und überfordert man sich mit dieser Diagnose fühlt.  \n\n\n\nDonnerstag  \n\n\n\n20.Juli 2023  \n\n\n\n19 bis 21h  \n\n\n\nonline über Zoom  \n\n\n\nDas wir die Teilnehmendenzahl überschaubar halten möchten\, ist die Teilnahme nur mit vorheriger Anmeldung möglich. Der Zugangslink wird dann nach erfolgreicher Anmeldung versandt.   \n\n\n\nUlla wird den Abend gestalten und wird dabei von Nadine unterstützt. Beide sind im Team CHRONISCH GLÜCKLICH e.V. und gestalten auch das Team und die Selbsthilfe im Norden.   \n\n\n\nWir freuen uns auf euch.  \n\n\n\nFür Anmeldung und weitere Infos schick eine Mail an:    \n\n\n\nmoin@chronisch-gluecklich.de
URL:https://chronisch-gluecklich.de/veranstaltung/ein-abend-fuer-alle-mit-einer-frischen-ced-diagnose
END:VEVENT
BEGIN:VEVENT
DTSTART;TZID=Europe/Berlin:20230708T133000
DTEND;TZID=Europe/Berlin:20230708T153000
DTSTAMP:20260424T163714
CREATED:20230626T173514Z
LAST-MODIFIED:20230626T173711Z
UID:2700-1688823000-1688830200@chronisch-gluecklich.de
SUMMARY:Treffen der Selbsthilfegruppe (SHG) Nord
DESCRIPTION:Je nach Wetterlage würden wir das Treffen irgendwo draußen nett zu einer Art Picknick oder in einer Lokalität planen. Natürlich mit schnell zugänglichen Toiletten. Bei typischem Hamburger Wetter treffen wir uns wieder in Hamburg Eimsbüttel.  \n\n\n\nEin Besuch des Treffens ist nur nach vorheriger verbindlichen Anmeldung möglich\, da wir die Gruppen in einem überschaubaren Rahmen halten möchten. \n\n\n\nWer Lust auf moderne Selbsthilfe mit viel Humor und Austausch oder ein erstes Kennenlernen hat\, meldet sich bitte per E-Mail mit dem Betreff:  \n\n\n\n„SHG Juli“ bis zum 04.07.2023 unter moin@chronisch-gluecklich.de an. \n\n\n\nBitte rechnet damit\, dass wir ab einer bestimmten Anzahl auch Teilnahmewünsche absagen müssen. Nach Ablauf der Anmeldefrist und erfolgreicher Anmeldung bekommt Ihr alle Details und Infos zu dem Treffen von uns geschickt. \n\n\n\nDies wird ein offenes Treffen jeder Altersgruppe sein\, alle sind herzlich willkommen und die Erfahrung der letzten Treffen hat gezeigt\, dass niemand Angst oder Scheu haben muss\, neu in die Gruppe zu kommen. Falls ihr unsicher seid oder Unterstützung braucht\, gebt uns gerne Bescheid. Wir finden eine Lösung. \n\n\n\nWir freuen uns auf euch.
URL:https://chronisch-gluecklich.de/veranstaltung/treffen-der-selbsthilfegruppe-shg-nord-2
END:VEVENT
BEGIN:VEVENT
DTSTART;TZID=Europe/Berlin:20230701T150000
DTEND;TZID=Europe/Berlin:20230701T180000
DTSTAMP:20260424T163714
CREATED:20230511T173731Z
LAST-MODIFIED:20230511T173733Z
UID:2693-1688223600-1688234400@chronisch-gluecklich.de
SUMMARY:Workshop: Entspannung & Bauchhypnose
DESCRIPTION:Workshop: Entspannung + Bauchhypnose  \n\n\n\nIm Fokus: Bauchschmerzen \n\n\n\n1.Juli 2023 15 -18 Uhr  \n\n\n\nBahrenfelder Str. 169 \n\n\n\n22765 Hamburg Altona \n\n\n\nEin Wohlfühlnachmittag zum Kennenlernen und sich gut fühlen: Auch in diesem Workshop zeige ich Euch unterschiedliche Übungen zur Entspannung\, Beruhigung\, Schmerzlinderung\, die als Orientierung für die Umsetzung  im Alltag dienen können. Diesmal sind die Übungen besonders auf das Thema Bauchschmerz gerichtet. \n\n\n\nBauchschmerzen sind meist mit starker Anspannung und negativen Bildern verbunden. Entspannung der Muskulatur und der Geistes können den Schmerz lindern helfen.  \n\n\n\nDabei kann die medizinische Hypnose sehr hilfreich sein. \n\n\n\nIn der Hypnose wirken in einem Zustand tiefer Entspannung/ Trance positive Bilder auf den ganzen Körper und bei der Bauchbezogenen Hypnose gezielter auf das Geschehen im Darm\, im Bauch. \n\n\n\nBauchhypnose wird inzwischen viel bei Reizdarm angewandt. In Studien konnte auch bei CED-Erkrankten eine Verbesserung der Lebensqualität\, der Aktivität der Erkrankung und der Schmerzen in der Mehrheit der Fälle beobachtet werden. \n\n\n\nMax. Teilnehmer:innenzahl :10 Personen \n\n\n\nTeilnahmegebühr: 10 Euro \n\n\n\nWeitere Informationen und Anmeldung bitte über: \n\n\n\nulla.weidel@chronisch-gluecklich.de \n\n\n\nUlla Weidel \n\n\n\nDipl. Paar-\, Familien und Lebensberaterin
URL:https://chronisch-gluecklich.de/veranstaltung/workshop-entspannung-bauchhypnose
END:VEVENT
BEGIN:VEVENT
DTSTART;TZID=Europe/Berlin:20230609T180000
DTEND;TZID=Europe/Berlin:20230609T200000
DTSTAMP:20260424T163714
CREATED:20230525T141121Z
LAST-MODIFIED:20230525T141123Z
UID:2696-1686333600-1686340800@chronisch-gluecklich.de
SUMMARY:Treffen der Selbsthilfegruppe Nord
DESCRIPTION:Das nächste Treffen unserer Selbsthilfe Gruppe Nord findet statt am:   \n\n\n\nFreitag\, 09.06.2023 um 18:00 – 20:00 Uhr in Hamburg Eimsbüttel   \n\n\n\nEin Besuch des Treffens ist nur nach vorheriger verbindlichen Anmeldung möglich\, da wir die Teilnehmendenzahl aufgrund von Raumkapazität begrenzen müssen. Zudem möchten wir die Gruppen in einem überschaubaren Rahmen halten.   \n\n\n\nWer Lust auf moderne Selbsthilfe mit viel Humor und Austausch oder auch ein erstes Kennenlernen hat\, meldet sich bitte per E-Mail mit dem Betreff „SHG Juni“ bis zum 07.06.2023 unter moin@chronisch-gluecklich.de an. Bitte rechnet damit\, dass wir ab einer bestimmten Anzahl auch Teilnahmewünsche absagen müssen.   \n\n\n\nNach Ablauf der Anmeldefrist und erfolgreicher Anmeldung bekommt Ihr alle Details zu dem Treffen von uns geschickt.    \n\n\n\nDies wird ein offenes Treffen jeder Altersgruppe sein\, alle sind herzlich willkommen und die Erfahrung der letzten Treffen hat gezeigt\, dass niemand Angst oder Scheu haben muss\, neu in die Gruppe zu kommen. Falls ihr unsicher seid oder Unterstützung braucht\, gebt uns gerne Bescheid. Wir finden eine Lösung.    \n\n\n\nWir freuen uns auf euch. 
URL:https://chronisch-gluecklich.de/veranstaltung/treffen-der-selbsthilfegruppe-nord
END:VEVENT
BEGIN:VEVENT
DTSTART;TZID=Europe/Berlin:20230517T183000
DTEND;TZID=Europe/Berlin:20230517T203000
DTSTAMP:20260424T163714
CREATED:20230414T131553Z
LAST-MODIFIED:20230414T131554Z
UID:2689-1684348200-1684355400@chronisch-gluecklich.de
SUMMARY:Treffen der Selbsthilfegruppe (SHG) Nord
DESCRIPTION:Am 17.05.2023 ab 18:30 Uhr möchten wir einen gemeinsamen Abend verbringen. Eventuell werden wir kegeln und auf jeden Fall essen gehen. Je nach Anmeldung und Interesse reservieren wir eine Location und würden vorher noch die ungefähren Kosten kommunizieren.  \n\n\n\nWir wissen natürlich\, dass Essen gehen auch immer eine Herausforderung für alle ist\, aber wir würden versuchen einfach mal einen unbeschwerten Abend zu wagen.  \n\n\n\nWer zu einem späteren Zeitpunkt dazu kommen möchte\, kann dies natürlich machen.  \n\n\n\nDas ist der Tag vor Christi Himmelfahrt und im besten Fall habt ihr sogar frei am nächsten Tag.  \n\n\n\nMeldet Euch bei Interesse hierfür bitte in einer Extra Mail mit dem Betreff: „Gemeinsam stark“ an moin@chronisch-gluecklich.de
URL:https://chronisch-gluecklich.de/veranstaltung/treffen-der-selbsthilfegruppe-shg-nord
END:VEVENT
BEGIN:VEVENT
DTSTART;TZID=Europe/Berlin:20230422T150000
DTEND;TZID=Europe/Berlin:20230422T170000
DTSTAMP:20260424T163714
CREATED:20230414T131312Z
LAST-MODIFIED:20230414T131313Z
UID:2687-1682175600-1682182800@chronisch-gluecklich.de
SUMMARY:Treffen Selbsthilfegruppe (SHG) Nord
DESCRIPTION:Moin Norddeutschland\, \n\n\n\ndas nächste Treffen der Selbsthilfegruppe (SHG) Nord findet in Hamburg Eimsbüttel am 22.04.2023 von 15 – 17 Uhr statt.  \n\n\n\nEin Besuch des Treffens ist nur nach vorheriger verbindlichen Anmeldung möglich\, da wir die Teilnehmendenzahl aufgrund von Raumkapazität begrenzen müssen. Zudem möchten wir die Gruppen in einem überschaubaren Rahmen halten.  \n\n\n\nWer Lust auf den Austausch und ein Kennenlernen hat\, meldet sich bitte per E-Mail moin@chronisch-gluecklich.de oder hier per Nachricht bis zum 19.04.2023.  \n\n\n\nBitte rechnet damit\, dass wir ab einer bestimmten Anzahl auch Teilnahmewünsche absagen müssen.  \n\n\n\nNach Ablauf der Anmeldefrist und erfolgreicher Anmeldung bekommt Ihr alle Details zu dem Treffen von uns geschickt.  \n\n\n\nDies wird ein offenes Treffen jeder Altersgruppe sein und hat den Schwerpunkt: \n\n\n\n„Was wünsche ich mir von meinen Mitmenschen im Umgang mit der Erkrankung und wo gibt es Verbesserungen im Umgang von Ärztinnen und Ärzten?“  \n\n\n\nWir freuen uns auf euch!  \n\n\n\nWenn ihr regelmäßig unseren Newsletter für Norddeutschland bekommen mögt\, meldet euch auch gerne unter:  \n\n\n\nmoin@chronisch-gluecklich.de
URL:https://chronisch-gluecklich.de/veranstaltung/treffen-selbsthilfegruppe-shg-nord
END:VEVENT
BEGIN:VEVENT
DTSTART;TZID=Europe/Berlin:20230415T150000
DTEND;TZID=Europe/Berlin:20230415T180000
DTSTAMP:20260424T163714
CREATED:20230307T144119Z
LAST-MODIFIED:20230308T153457Z
UID:2649-1681570800-1681581600@chronisch-gluecklich.de
SUMMARY:Workshop: Entspannung und Bauchhypnose
DESCRIPTION:WORKSHOP: ENTSPANNUNG / (BAUCH-)HYPNOSE \n\n\n\nSonnabend 15. April 2023 \n\n\n\n15 bis 18 h \n\n\n\nZum Kennenlernen und sich gut fühlen: \n\n\n\nIn dem Workshop probieren wir unterschiedliche Übungen zur Entspannung\, Beruhigung\, \n\n\n\nSchmerzlinderung mit Euch\, die als Orientierung für die Umsetzung im Alltag dienen können. Insbesondere zwei lange Übungen aus der medizinischen Hypnose sind für Betroffene mit CED interessant: In einem Zustand tiefer Entspannung/Trance wirken positive Bilder auf den ganzen Körper und bei der bauchbezogenen Hypnose gezielter auf das Geschehen im Darm. \n\n\n\nBauchhypnose wird inzwischen viel bei Reizdarm erfolgreich angewandt. In Studien konnte auch bei CED-Erkrankten eine Verbesserung der Lebensqualität und der Krankheitsaktivität in der Mehrheit der Fälle beobachtet werden. \n\n\n\nEin Wohlfühlnachmittag! \n\n\n\nEure  \n\n\n\nUlla Weidel \n\n\n\nDipl. Paar-\, Familien und Lebensberaterin \n\n\n\nWeitere Informationen /Anmeldung bitte über ulla.weidel@chronisch-gluecklich.de \n\n\n\nTeilnehmeranzahl 10 Personen  \n\n\n\n10 Euro Teilnahmegebühr in Vorklasse für verbindliche Reservierung
URL:https://chronisch-gluecklich.de/veranstaltung/2649
ATTACH;FMTTYPE=image/png:https://chronisch-gluecklich.de/wp-content/uploads/2023/01/SHG-Nord-Schiffchen_Zeichenflaeche-1.png
END:VEVENT
END:VCALENDAR